BEGIN:VCALENDAR
VERSION:2.0
CALSCALE:GREGORIAN
PRODID:adamgibbons/ics
METHOD:PUBLISH
X-PUBLISHED-TTL:PT1H
BEGIN:VEVENT
UID:1140@flyinghigh-bonn.org
SUMMARY:Die Welt steht in Flammen und wir spielen Bingo!
DTSTAMP:20260425T114210Z
DTSTART:20260501T160000Z
DTEND:20260501T220000Z
URL:https://flyinghigh-bonn.org/event/die-welt-steht-in-flammen-und-wir-spi
	elen-bingo
GEO:50.7412;7.09106
LOCATION:Hausprojekt Krausfeld - Im Krausfeld 22\, 53111 Bonn
STATUS:CONFIRMED
CATEGORIES:Bingo,Kneipe,Pro Choice,Solidarität,Wohnprojekt
END:VEVENT
END:VCALENDAR
