BEGIN:VCALENDAR
VERSION:2.0
CALSCALE:GREGORIAN
PRODID:adamgibbons/ics
METHOD:PUBLISH
X-PUBLISHED-TTL:PT1H
BEGIN:VEVENT
UID:1138@flyinghigh-bonn.org
SUMMARY:Stadtrundgang: Bonn zur Zeit des Nationalsozialismus
DTSTAMP:20260426T004648Z
DTSTART:20260426T100000Z
DTEND:20260426T120000Z
URL:https://flyinghigh-bonn.org/event/stadtrundgang-bonn-zur-zeit-des-natio
	nalsozialismus-1
LOCATION:Juridicum (Lennéstraße) - Lennéstraße 31\, 53113 Bonn
STATUS:CONFIRMED
CATEGORIES:Antifa,Stadtrundgang
END:VEVENT
BEGIN:VEVENT
UID:1135@flyinghigh-bonn.org
SUMMARY:Vortrag mit den Kindern des Widerstandes
DTSTAMP:20260426T004648Z
DTSTART:20260427T170000Z
DTEND:20260427T190000Z
URL:https://flyinghigh-bonn.org/event/vortrag-mit-den-kindern-des-widerstan
	des
GEO:50.7346;7.09146
LOCATION:Seminarraum 10\, Rabinstraße 8 - Rabinstraße 8\, 53111 Bonn
STATUS:CONFIRMED
CATEGORIES:Antifa,Vortrag
END:VEVENT
BEGIN:VEVENT
UID:1131@flyinghigh-bonn.org
SUMMARY:★ 5 Jahre ACS – Soliparty ★
DTSTAMP:20260426T004648Z
DTSTART:20260501T160000Z
DTEND:20260501T200000Z
URL:https://flyinghigh-bonn.org/event/star-5-jahre-acs-soliparty-star
GEO:50.7368;7.0867
LOCATION:Kult 41 - Hochstadenring 41\, 53119 Bonn
STATUS:CONFIRMED
CATEGORIES:Antifa,Handarbeit,Kollektiv,Konzert,Solidarität
END:VEVENT
END:VCALENDAR
