BEGIN:VCALENDAR
VERSION:2.0
CALSCALE:GREGORIAN
PRODID:adamgibbons/ics
METHOD:PUBLISH
X-PUBLISHED-TTL:PT1H
BEGIN:VEVENT
UID:1124@flyinghigh-bonn.org
SUMMARY:Sea-Eye Lokalgruppe Bonn: Offenes Plenum
DTSTAMP:20260425T234518Z
DTSTART:20260429T173000Z
DTEND:20260429T190000Z
URL:https://flyinghigh-bonn.org/event/sea-eye-lokalgruppe-bonn-offenes-plen
	um
GEO:50.7356;7.0871
LOCATION:Oscar-Romero-Haus Dachboden - Heerstr. 205\, 53111 Bonn
STATUS:CONFIRMED
CATEGORIES:Plenum,Solidarität
END:VEVENT
END:VCALENDAR
