BEGIN:VCALENDAR
VERSION:2.0
CALSCALE:GREGORIAN
PRODID:adamgibbons/ics
METHOD:PUBLISH
X-PUBLISHED-TTL:PT1H
BEGIN:VEVENT
UID:1125@flyinghigh-bonn.org
SUMMARY:Lesetresen
DTSTAMP:20260426T021229Z
DTSTART:20260513T173000Z
URL:https://flyinghigh-bonn.org/event/lesetresen-27
GEO:50.7396;7.09655
LOCATION:Buchladen Le Sabot - Breite Straße 76\, 53111 Bonn
STATUS:CONFIRMED
CATEGORIES:Regelmäßiger Termin
END:VEVENT
END:VCALENDAR
