BEGIN:VCALENDAR
VERSION:2.0
CALSCALE:GREGORIAN
PRODID:adamgibbons/ics
METHOD:PUBLISH
X-PUBLISHED-TTL:PT1H
BEGIN:VEVENT
UID:1129@flyinghigh-bonn.org
SUMMARY:FFF Gas-Aktionstag
DTSTAMP:20260420T221518Z
DTSTART:20260424T130000Z
DTEND:20260424T160000Z
URL:https://flyinghigh-bonn.org/event/fff-gas-aktionstag
GEO:50.7327;7.10435
LOCATION:Bonn Hofgarten - Hofgarten
STATUS:CONFIRMED
CATEGORIES:Demo
END:VEVENT
END:VCALENDAR
