BEGIN:VCALENDAR
VERSION:2.0
CALSCALE:GREGORIAN
PRODID:adamgibbons/ics
METHOD:PUBLISH
X-PUBLISHED-TTL:PT1H
BEGIN:VEVENT
UID:1134@flyinghigh-bonn.org
SUMMARY:Rechte Strukturen in und um Bonn
DTSTAMP:20260420T102018Z
DTSTART:20260423T170000Z
DTEND:20260423T190000Z
URL:https://flyinghigh-bonn.org/event/rechte-strukturen-in-und-um-bonn
GEO:50.7394;7.10364
LOCATION:Alte VHS Bonn (neuer Standort) - Engeltalstraße 4\, 53111 Bonn
STATUS:CONFIRMED
CATEGORIES:Antifa,Diskussion,Vortrag
END:VEVENT
END:VCALENDAR
