BEGIN:VCALENDAR
VERSION:2.0
CALSCALE:GREGORIAN
PRODID:adamgibbons/ics
METHOD:PUBLISH
X-PUBLISHED-TTL:PT1H
BEGIN:VEVENT
UID:1137@flyinghigh-bonn.org
SUMMARY:Themenreihe Feminismus (Junge Linke Bonn)
DTSTAMP:20260422T005357Z
DTSTART:20260423T180000Z
DTEND:20260507T200000Z
DESCRIPTION:Junge Linke Bonn ist ein Parteiunabhängiger Linker Jugendverban
	d der\nZivilgesellschaft unabhängig von Staat organisiert.\n\nAbseits von 
	unserer Praxis\, treffen wir uns jede Woche Donnerstag ab 20 Uhr als\nVerb
	and im ORH. Die nächsten Wochen wollen wir niedrigschwelliege Angebote zum
	\nThema Feminismus anbieten :)\n\nUnter 35 und Lust drauf? Kommt vorbei!\n
	\nKonkret: 23.04 Grundlagen des Materialistischen Feminismus\, 30.04 Queer
	ness &\nKapitalismus\, 07.05 Filmabend\n\n(Alle Treffen kostenfrei auf Deu
	tsch ohne Übersetzung in einem Raum der über\nTreppen zu erreichen ist)
URL:https://flyinghigh-bonn.org/event/themenreihe-feminismus-junge-linke-bo
	nn
GEO:50.7356;7.0871
LOCATION:Oscar-Romero-Haus - Heerstraße 205\, 53111 Bonn
STATUS:CONFIRMED
CATEGORIES:Austausch,Feminismus,Filmvorführung,Vortrag
X-ALT-DESC;FMTTYPE=text/html:<p>Junge Linke Bonn ist ein Parteiunabhängiger
	 Linker Jugendverband der Zivilgesellschaft unabhängig von Staat organisie
	rt.</p><p>Abseits von unserer Praxis, treffen wir uns jede Woche Donnersta
	g ab 20 Uhr als Verband im ORH. Die nächsten Wochen wollen wir niedrigschw
	elliege Angebote zum Thema Feminismus anbieten :)</p><p>Unter 35 und Lust 
	drauf? Kommt vorbei!</p><p>Konkret: 23.04 Grundlagen des Materialistischen
	 Feminismus, 30.04 Queerness &amp; Kapitalismus, 07.05 Filmabend</p><p>(Al
	le Treffen kostenfrei auf Deutsch ohne Übersetzung in einem Raum der über 
	Treppen zu erreichen ist)</p>
BEGIN:VALARM
ACTION:DISPLAY
DESCRIPTION:Themenreihe Feminismus (Junge Linke Bonn)
TRIGGER:-PT1H
END:VALARM
END:VEVENT
END:VCALENDAR
