BEGIN:VCALENDAR
VERSION:2.0
CALSCALE:GREGORIAN
PRODID:adamgibbons/ics
METHOD:PUBLISH
X-PUBLISHED-TTL:PT1H
BEGIN:VEVENT
UID:1139@flyinghigh-bonn.org
SUMMARY:Kneipenquiz „Ost-Edition“
DTSTAMP:20260422T204716Z
DTSTART:20260517T160000Z
DTEND:20260517T200000Z
DESCRIPTION:🎉 Kneipenquiz-Tour "Ost-Edition" 🎉\n\n\n\nEin unvergesslicher K
	neipenquiz-Abend rund um Ostdeutschland: Geschichte\,\nKultur\, Alltagswis
	sen und vielleicht auch die ein oder andere schräge Anekdote\nwarten auf e
	uch. Es gibt tolle Ost-Pakete zu gewinnen. Organisiert wird das\nGanze von
	 AIS Saale-Holzland (AntifaschistischInitiativSolidarisch) aus\nThüringen.
	\n\n\n\n💛 Soli\, der ankommt:\n\nWir sammeln Spenden für einen richtig wic
	htigen Ort – die Kahrola in Kahla. Die\nNachbarschaftsstube ist ein offene
	r Treffpunkt für alle\, ein Raum zum\nKennenlernen\, Austauschen und Mitma
	chen\, ohne Konsumzwang und mit Haltung. Vor\nallem in Zeiten wie diesen\,
	 sehr wichtig.\n\n\n\n👉 Also kommt vorbei und quizzt mit\, egal ob alleine
	 oder als Gruppe. Die\nTeilnahme am Quiz ist kostenfrei. Wir freuen uns ab
	er über jede Spende!\n\n\n\n📍 Alte VHS Bonn\n\n📅 So\, 17. Mai\n\n⏰ 18:00 T
	ür auf / 19:00 Start Quiz\n\n\n\nWir freuen uns auf euch! ✨\n\n\n\n\n
URL:https://flyinghigh-bonn.org/event/kneipenquiz-ost-edition
GEO:50.7394;7.10364
LOCATION:Alte VHS Bonn (neuer Standort) - Engeltalstraße 4\, 53111 Bonn
STATUS:CONFIRMED
CATEGORIES:Kneipe
X-ALT-DESC;FMTTYPE=text/html:<p>🎉 <strong>Kneipenquiz-Tour "Ost-Edition" </
	strong>🎉</p><p></p><p>Ein unvergesslicher Kneipenquiz-Abend rund um Ostdeu
	tschland: Geschichte, Kultur, Alltagswissen und vielleicht auch die ein od
	er andere schräge Anekdote warten auf euch. Es gibt tolle Ost-Pakete zu ge
	winnen. Organisiert wird das Ganze von AIS Saale-Holzland (Antifaschistisc
	h<em>Initiativ</em>Solidarisch) aus Thüringen.</p><p></p><p>💛 Soli, der an
	kommt:</p><p>Wir sammeln Spenden für einen richtig wichtigen Ort – die Kah
	rola in Kahla. Die Nachbarschaftsstube ist ein offener Treffpunkt für alle
	, ein Raum zum Kennenlernen, Austauschen und Mitmachen, ohne Konsumzwang u
	nd mit Haltung. Vor allem in Zeiten wie diesen, sehr wichtig.</p><p></p><p
	>👉 Also kommt vorbei und quizzt mit, egal ob alleine oder als Gruppe. Die 
	Teilnahme am Quiz ist kostenfrei. Wir freuen uns aber über jede Spende!</p
	><p></p><p>📍 Alte VHS Bonn</p><p>📅 So, 17. Mai</p><p>⏰ 18:00 Tür auf / 19:
	00 Start Quiz</p><p></p><p>Wir freuen uns auf euch! ✨</p><p></p><p><br></p
	>
BEGIN:VALARM
ACTION:DISPLAY
DESCRIPTION:Kneipenquiz „Ost-Edition“
TRIGGER:-PT1H
END:VALARM
END:VEVENT
END:VCALENDAR
