BEGIN:VCALENDAR
VERSION:2.0
CALSCALE:GREGORIAN
PRODID:adamgibbons/ics
METHOD:PUBLISH
X-PUBLISHED-TTL:PT1H
BEGIN:VEVENT
UID:1141@flyinghigh-bonn.org
SUMMARY:Garagen-Mal-Aktion im Krausfeld
DTSTAMP:20260424T182505Z
DTSTART:20260425T090000Z
DTEND:20260425T160000Z
DESCRIPTION:Die Garagen werden verschönert! 🎨\n\nAm 25.04.\, also morgen! a
	b 11 Uhr laden wir euch ein zum kreativen Malen und\nVerschönern der Garag
	en in unserem Hof 🖌️\n\nDas Wetter wird super also gibt es Kaltgetränke\, S
	nacks und genügend Farben\, um\nden Hof für Frühling und Sommer in neuen\,
	 bunten Farben strahlen zu lassen ✨\n\nWer mag und kann\, kann gerne eigen
	e Tools mitbringen. Wir stellen aber auch\neiniges zur Verfügung.\n\nWir f
	reuen uns auf euch ❤️
URL:https://flyinghigh-bonn.org/event/garagen-mal-aktion-im-krausfeld
GEO:50.7412;7.09106
LOCATION:Hausprojekt Krausfeld - Im Krausfeld 22\, 53111 Bonn
STATUS:CONFIRMED
CATEGORIES:Handarbeit,Kunst,Wohnprojekt
X-ALT-DESC;FMTTYPE=text/html:<p>Die Garagen werden verschönert! 🎨<br><br>Am
	 25.04., also morgen! ab 11 Uhr laden wir euch ein zum kreativen Malen und
	 Verschönern der Garagen in unserem Hof 🖌️ <br><br>Das Wetter wird super al
	so gibt es Kaltgetränke, Snacks und genügend Farben, um den Hof für Frühli
	ng und Sommer in neuen, bunten Farben strahlen zu lassen ✨<br><br>Wer mag 
	und kann, kann gerne eigene Tools mitbringen. Wir stellen aber auch einige
	s zur Verfügung.<br><br>Wir freuen uns auf euch ❤️</p>
BEGIN:VALARM
ACTION:DISPLAY
DESCRIPTION:Garagen-Mal-Aktion im Krausfeld
TRIGGER:-PT1H
END:VALARM
END:VEVENT
END:VCALENDAR
